BEGIN:VCALENDAR
VERSION:2.0
PRODID:-//Conservation Commission - ECPv6.13.2.1//NONSGML v1.0//EN
CALSCALE:GREGORIAN
METHOD:PUBLISH
X-WR-CALNAME:Conservation Commission
X-ORIGINAL-URL:https://swc.idaho.gov
X-WR-CALDESC:Events for Conservation Commission
REFRESH-INTERVAL;VALUE=DURATION:PT1H
X-Robots-Tag:noindex
X-PUBLISHED-TTL:PT1H
BEGIN:VTIMEZONE
TZID:America/Boise
BEGIN:DAYLIGHT
TZOFFSETFROM:-0700
TZOFFSETTO:-0600
TZNAME:MDT
DTSTART:20190310T090000
END:DAYLIGHT
BEGIN:STANDARD
TZOFFSETFROM:-0600
TZOFFSETTO:-0700
TZNAME:MST
DTSTART:20191103T080000
END:STANDARD
END:VTIMEZONE
BEGIN:VEVENT
DTSTART;TZID=America/Boise:20190829T100000
DTEND;TZID=America/Boise:20190829T150000
DTSTAMP:20260425T104149
CREATED:20190813T192533Z
LAST-MODIFIED:20190813T192533Z
UID:1150-1567072800-1567090800@swc.idaho.gov
SUMMARY:Regular Commission Meeting
DESCRIPTION:
URL:https://swc.idaho.gov/event/regular-commission-meeting/
LOCATION:ID\, United States
END:VEVENT
END:VCALENDAR