BEGIN:VCALENDAR
VERSION:2.0
PRODID:-//Conservation Commission - ECPv6.13.2.1//NONSGML v1.0//EN
CALSCALE:GREGORIAN
METHOD:PUBLISH
X-WR-CALNAME:Conservation Commission
X-ORIGINAL-URL:https://swc.idaho.gov
X-WR-CALDESC:Events for Conservation Commission
REFRESH-INTERVAL;VALUE=DURATION:PT1H
X-Robots-Tag:noindex
X-PUBLISHED-TTL:PT1H
BEGIN:VTIMEZONE
TZID:America/Boise
BEGIN:DAYLIGHT
TZOFFSETFROM:-0700
TZOFFSETTO:-0600
TZNAME:MDT
DTSTART:20230312T090000
END:DAYLIGHT
BEGIN:STANDARD
TZOFFSETFROM:-0600
TZOFFSETTO:-0700
TZNAME:MST
DTSTART:20231105T080000
END:STANDARD
END:VTIMEZONE
BEGIN:VEVENT
DTSTART;TZID=America/Boise:20230222T090000
DTEND;TZID=America/Boise:20230222T130000
DTSTAMP:20260424T210016
CREATED:20230111T010640Z
LAST-MODIFIED:20230111T010640Z
UID:4407-1677056400-1677070800@swc.idaho.gov
SUMMARY:Regular Commission Meeting
DESCRIPTION:
URL:https://swc.idaho.gov/event/regular-commission-meeting-13/
LOCATION:ISWCC Conference Room\, 322 E Front St\, Suite 560\, Boise\, ID\, 83702\, United States
END:VEVENT
END:VCALENDAR