BEGIN:VCALENDAR
VERSION:2.0
PRODID:-//Conservation Commission - ECPv6.13.2.1//NONSGML v1.0//EN
CALSCALE:GREGORIAN
METHOD:PUBLISH
X-WR-CALNAME:Conservation Commission
X-ORIGINAL-URL:https://swc.idaho.gov
X-WR-CALDESC:Events for Conservation Commission
REFRESH-INTERVAL;VALUE=DURATION:PT1H
X-Robots-Tag:noindex
X-PUBLISHED-TTL:PT1H
BEGIN:VTIMEZONE
TZID:America/Boise
BEGIN:DAYLIGHT
TZOFFSETFROM:-0700
TZOFFSETTO:-0600
TZNAME:MDT
DTSTART:20210314T090000
END:DAYLIGHT
BEGIN:STANDARD
TZOFFSETFROM:-0600
TZOFFSETTO:-0700
TZNAME:MST
DTSTART:20211107T080000
END:STANDARD
BEGIN:DAYLIGHT
TZOFFSETFROM:-0700
TZOFFSETTO:-0600
TZNAME:MDT
DTSTART:20220313T090000
END:DAYLIGHT
BEGIN:STANDARD
TZOFFSETFROM:-0600
TZOFFSETTO:-0700
TZNAME:MST
DTSTART:20221106T080000
END:STANDARD
BEGIN:DAYLIGHT
TZOFFSETFROM:-0700
TZOFFSETTO:-0600
TZNAME:MDT
DTSTART:20230312T090000
END:DAYLIGHT
BEGIN:STANDARD
TZOFFSETFROM:-0600
TZOFFSETTO:-0700
TZNAME:MST
DTSTART:20231105T080000
END:STANDARD
BEGIN:DAYLIGHT
TZOFFSETFROM:-0700
TZOFFSETTO:-0600
TZNAME:MDT
DTSTART:20240310T090000
END:DAYLIGHT
BEGIN:STANDARD
TZOFFSETFROM:-0600
TZOFFSETTO:-0700
TZNAME:MST
DTSTART:20241103T080000
END:STANDARD
END:VTIMEZONE
BEGIN:VEVENT
DTSTART;VALUE=DATE:20240527
DTEND;VALUE=DATE:20240528
DTSTAMP:20260425T072530
CREATED:20190307T165156Z
LAST-MODIFIED:20190307T165156Z
UID:4044-1716768000-1716854399@swc.idaho.gov
SUMMARY:Memorial Day (closed)
DESCRIPTION:
URL:https://swc.idaho.gov/event/memorial-day-2024-05-27/
LOCATION:Idaho Partnership
CATEGORIES:Holiday
END:VEVENT
BEGIN:VEVENT
DTSTART;VALUE=DATE:20240219
DTEND;VALUE=DATE:20240220
DTSTAMP:20260425T072530
CREATED:20190307T165133Z
LAST-MODIFIED:20190307T165133Z
UID:3833-1708300800-1708387199@swc.idaho.gov
SUMMARY:Presidents' Day (closed)
DESCRIPTION:
URL:https://swc.idaho.gov/event/washingtons-birthday-2024-02-19/
LOCATION:ID
CATEGORIES:Holiday
END:VEVENT
BEGIN:VEVENT
DTSTART;VALUE=DATE:20240115
DTEND;VALUE=DATE:20240116
DTSTAMP:20260425T072530
CREATED:20190307T165108Z
LAST-MODIFIED:20190307T165108Z
UID:3814-1705276800-1705363199@swc.idaho.gov
SUMMARY:Martin Luther King\, Jr. Day (closed)
DESCRIPTION:
URL:https://swc.idaho.gov/event/martin-luther-king-jr-day-2024-01-15/
LOCATION:ID
CATEGORIES:Holiday
END:VEVENT
BEGIN:VEVENT
DTSTART;VALUE=DATE:20240101
DTEND;VALUE=DATE:20240102
DTSTAMP:20260425T072530
CREATED:20190307T165030Z
LAST-MODIFIED:20190307T165030Z
UID:3808-1704067200-1704153599@swc.idaho.gov
SUMMARY:New Year's Day (closed)
DESCRIPTION:
URL:https://swc.idaho.gov/event/new-years-day-2021-01-01-2024-01-01/
LOCATION:tractor
CATEGORIES:Holiday
END:VEVENT
BEGIN:VEVENT
DTSTART;VALUE=DATE:20231225
DTEND;VALUE=DATE:20231226
DTSTAMP:20260425T072530
CREATED:20190307T165409Z
LAST-MODIFIED:20190307T165409Z
UID:3805-1703462400-1703548799@swc.idaho.gov
SUMMARY:Christmas (closed)
DESCRIPTION:
URL:https://swc.idaho.gov/event/christmas-2023-12-25/
LOCATION:ID
CATEGORIES:Holiday
END:VEVENT
BEGIN:VEVENT
DTSTART;VALUE=DATE:20231127
DTEND;VALUE=DATE:20231128
DTSTAMP:20260425T072530
CREATED:20190307T165348Z
LAST-MODIFIED:20190307T165348Z
UID:3795-1701043200-1701129599@swc.idaho.gov
SUMMARY:Thanksgiving (closed)
DESCRIPTION:
URL:https://swc.idaho.gov/event/thanksgiving-2023-11-27/
LOCATION:ID
CATEGORIES:Holiday
END:VEVENT
BEGIN:VEVENT
DTSTART;VALUE=DATE:20231111
DTEND;VALUE=DATE:20231112
DTSTAMP:20260425T072530
CREATED:20190307T165325Z
LAST-MODIFIED:20190307T165325Z
UID:3784-1699660800-1699747199@swc.idaho.gov
SUMMARY:Veterans Day (closed)
DESCRIPTION:
URL:https://swc.idaho.gov/event/veterans-day-2023-11-11/
LOCATION:ID
CATEGORIES:Holiday
END:VEVENT
BEGIN:VEVENT
DTSTART;VALUE=DATE:20231009
DTEND;VALUE=DATE:20231010
DTSTAMP:20260425T072530
CREATED:20190307T165302Z
LAST-MODIFIED:20190307T165302Z
UID:3763-1696809600-1696895999@swc.idaho.gov
SUMMARY:Columbus Day (closed)
DESCRIPTION:
URL:https://swc.idaho.gov/event/columbus-day-2023-10-09/
LOCATION:ID
CATEGORIES:Holiday
END:VEVENT
BEGIN:VEVENT
DTSTART;VALUE=DATE:20230704
DTEND;VALUE=DATE:20230705
DTSTAMP:20260425T072530
CREATED:20190307T165217Z
LAST-MODIFIED:20190307T165217Z
UID:3714-1688428800-1688515199@swc.idaho.gov
SUMMARY:Independence Day (closed)
DESCRIPTION:
URL:https://swc.idaho.gov/event/independence-day-2023-07-04/
LOCATION:ID
CATEGORIES:Holiday
END:VEVENT
BEGIN:VEVENT
DTSTART;VALUE=DATE:20230529
DTEND;VALUE=DATE:20230530
DTSTAMP:20260425T072530
CREATED:20190307T165156Z
LAST-MODIFIED:20190307T165156Z
UID:3701-1685318400-1685404799@swc.idaho.gov
SUMMARY:Memorial Day (closed)
DESCRIPTION:
URL:https://swc.idaho.gov/event/memorial-day-2023-05-29/
LOCATION:Idaho Partnership
CATEGORIES:Holiday
END:VEVENT
BEGIN:VEVENT
DTSTART;TZID=America/Boise:20230222T090000
DTEND;TZID=America/Boise:20230222T130000
DTSTAMP:20260425T072530
CREATED:20230111T010640Z
LAST-MODIFIED:20230111T010640Z
UID:4407-1677056400-1677070800@swc.idaho.gov
SUMMARY:Regular Commission Meeting
DESCRIPTION:
URL:https://swc.idaho.gov/event/regular-commission-meeting-13/
LOCATION:ISWCC Conference Room\, 322 E Front St\, Suite 560\, Boise\, ID\, 83702\, United States
END:VEVENT
BEGIN:VEVENT
DTSTART;VALUE=DATE:20230220
DTEND;VALUE=DATE:20230221
DTSTAMP:20260425T072530
CREATED:20190307T165133Z
LAST-MODIFIED:20190307T165133Z
UID:3527-1676851200-1676937599@swc.idaho.gov
SUMMARY:Presidents' Day (closed)
DESCRIPTION:
URL:https://swc.idaho.gov/event/washingtons-birthday-2023-02-20/
LOCATION:ID
CATEGORIES:Holiday
END:VEVENT
BEGIN:VEVENT
DTSTART;TZID=America/Boise:20230117T090000
DTEND;TZID=America/Boise:20230117T130000
DTSTAMP:20260425T072530
CREATED:20230111T010443Z
LAST-MODIFIED:20230111T010443Z
UID:4405-1673946000-1673960400@swc.idaho.gov
SUMMARY:Regular Commission Meeting
DESCRIPTION:
URL:https://swc.idaho.gov/event/regular-commission-meeting-12/
LOCATION:ISWCC Conference Room\, 322 E Front St\, Suite 560\, Boise\, ID\, 83702\, United States
END:VEVENT
BEGIN:VEVENT
DTSTART;VALUE=DATE:20230116
DTEND;VALUE=DATE:20230117
DTSTAMP:20260425T072530
CREATED:20190307T165108Z
LAST-MODIFIED:20190307T165108Z
UID:3415-1673827200-1673913599@swc.idaho.gov
SUMMARY:Martin Luther King\, Jr. Day (closed)
DESCRIPTION:
URL:https://swc.idaho.gov/event/martin-luther-king-jr-day-2023-01-16/
LOCATION:ID
CATEGORIES:Holiday
END:VEVENT
BEGIN:VEVENT
DTSTART;VALUE=DATE:20230101
DTEND;VALUE=DATE:20230102
DTSTAMP:20260425T072530
CREATED:20190307T165030Z
LAST-MODIFIED:20190307T165030Z
UID:3373-1672531200-1672617599@swc.idaho.gov
SUMMARY:New Year's Day (closed)
DESCRIPTION:
URL:https://swc.idaho.gov/event/new-years-day-2021-01-01-2023-01-01/
LOCATION:tractor
CATEGORIES:Holiday
END:VEVENT
BEGIN:VEVENT
DTSTART;VALUE=DATE:20221225
DTEND;VALUE=DATE:20221226
DTSTAMP:20260425T072530
CREATED:20190307T165409Z
LAST-MODIFIED:20190307T165409Z
UID:3362-1671926400-1672012799@swc.idaho.gov
SUMMARY:Christmas (closed)
DESCRIPTION:
URL:https://swc.idaho.gov/event/christmas-2022-12-25/
LOCATION:ID
CATEGORIES:Holiday
END:VEVENT
BEGIN:VEVENT
DTSTART;VALUE=DATE:20221128
DTEND;VALUE=DATE:20221129
DTSTAMP:20260425T072530
CREATED:20190307T165348Z
LAST-MODIFIED:20190307T165348Z
UID:3347-1669593600-1669679999@swc.idaho.gov
SUMMARY:Thanksgiving (closed)
DESCRIPTION:
URL:https://swc.idaho.gov/event/thanksgiving-2022-11-28/
LOCATION:ID
CATEGORIES:Holiday
END:VEVENT
BEGIN:VEVENT
DTSTART;VALUE=DATE:20221111
DTEND;VALUE=DATE:20221112
DTSTAMP:20260425T072530
CREATED:20190307T165325Z
LAST-MODIFIED:20190307T165325Z
UID:3337-1668124800-1668211199@swc.idaho.gov
SUMMARY:Veterans Day (closed)
DESCRIPTION:
URL:https://swc.idaho.gov/event/veterans-day-2022-11-11/
LOCATION:ID
CATEGORIES:Holiday
END:VEVENT
BEGIN:VEVENT
DTSTART;VALUE=DATE:20221010
DTEND;VALUE=DATE:20221011
DTSTAMP:20260425T072530
CREATED:20190307T165302Z
LAST-MODIFIED:20190307T165302Z
UID:3312-1665360000-1665446399@swc.idaho.gov
SUMMARY:Columbus Day (closed)
DESCRIPTION:
URL:https://swc.idaho.gov/event/columbus-day-2022-10-10/
LOCATION:ID
CATEGORIES:Holiday
END:VEVENT
BEGIN:VEVENT
DTSTART;VALUE=DATE:20220704
DTEND;VALUE=DATE:20220705
DTSTAMP:20260425T072530
CREATED:20190307T165217Z
LAST-MODIFIED:20190307T165217Z
UID:1858-1656892800-1656979199@swc.idaho.gov
SUMMARY:Independence Day (closed)
DESCRIPTION:
URL:https://swc.idaho.gov/event/independence-day-2022-07-04/
LOCATION:ID
CATEGORIES:Holiday
END:VEVENT
BEGIN:VEVENT
DTSTART;VALUE=DATE:20220620
DTEND;VALUE=DATE:20220621
DTSTAMP:20260425T072530
CREATED:20220603T224755Z
LAST-MODIFIED:20220603T224950Z
UID:4103-1655683200-1655769599@swc.idaho.gov
SUMMARY:Juneteenth OBSERVED (closed)
DESCRIPTION:
URL:https://swc.idaho.gov/event/juneteenth-observed-closed/
LOCATION:ID
END:VEVENT
BEGIN:VEVENT
DTSTART;VALUE=DATE:20220530
DTEND;VALUE=DATE:20220531
DTSTAMP:20260425T072530
CREATED:20190307T165156Z
LAST-MODIFIED:20190307T165156Z
UID:1832-1653868800-1653955199@swc.idaho.gov
SUMMARY:Memorial Day (closed)
DESCRIPTION:
URL:https://swc.idaho.gov/event/memorial-day-2022-05-30/
LOCATION:Idaho Partnership
CATEGORIES:Holiday
END:VEVENT
BEGIN:VEVENT
DTSTART;TZID=America/Boise:20220330T100000
DTEND;TZID=America/Boise:20220330T110000
DTSTAMP:20260425T072530
CREATED:20220325T174419Z
LAST-MODIFIED:20220325T174419Z
UID:3851-1648634400-1648638000@swc.idaho.gov
SUMMARY:Special Commission Meeting
DESCRIPTION:
URL:https://swc.idaho.gov/event/special-commission-meeting-7/
LOCATION:ISWCC Conference Room\, 322 E Front St\, Suite 560\, Boise\, ID\, 83702\, United States
END:VEVENT
BEGIN:VEVENT
DTSTART;TZID=America/Boise:20220223T090000
DTEND;TZID=America/Boise:20220223T120000
DTSTAMP:20260425T072530
CREATED:20220217T184506Z
LAST-MODIFIED:20220217T184506Z
UID:3824-1645606800-1645617600@swc.idaho.gov
SUMMARY:Regular Commission Meeting
DESCRIPTION:
URL:https://swc.idaho.gov/event/regular-commission-meeting-11/
LOCATION:ISWCC Conference Room\, 322 E Front St\, Suite 560\, Boise\, ID\, 83702\, United States
END:VEVENT
BEGIN:VEVENT
DTSTART;VALUE=DATE:20220221
DTEND;VALUE=DATE:20220222
DTSTAMP:20260425T072530
CREATED:20190307T165133Z
LAST-MODIFIED:20201021T154436Z
UID:1678-1645401600-1645487999@swc.idaho.gov
SUMMARY:Presidents' Day (closed)
DESCRIPTION:
URL:https://swc.idaho.gov/event/washingtons-birthday-2022-02-21/
LOCATION:ID
CATEGORIES:Holiday
END:VEVENT
BEGIN:VEVENT
DTSTART;VALUE=DATE:20220117
DTEND;VALUE=DATE:20220118
DTSTAMP:20260425T072530
CREATED:20190307T165108Z
LAST-MODIFIED:20190307T165108Z
UID:1607-1642377600-1642463999@swc.idaho.gov
SUMMARY:Martin Luther King\, Jr. Day (closed)
DESCRIPTION:
URL:https://swc.idaho.gov/event/martin-luther-king-jr-day-2022-01-17/
LOCATION:ID
CATEGORIES:Holiday
END:VEVENT
BEGIN:VEVENT
DTSTART;VALUE=DATE:20220101
DTEND;VALUE=DATE:20220102
DTSTAMP:20260425T072530
CREATED:20190307T165030Z
LAST-MODIFIED:20201021T155256Z
UID:1516-1640995200-1641081599@swc.idaho.gov
SUMMARY:New Year's Day (closed)
DESCRIPTION:
URL:https://swc.idaho.gov/event/new-years-day-2021-01-01-2022-01-01/
LOCATION:tractor
CATEGORIES:Holiday
END:VEVENT
BEGIN:VEVENT
DTSTART;VALUE=DATE:20211225
DTEND;VALUE=DATE:20211226
DTSTAMP:20260425T072530
CREATED:20190307T165409Z
LAST-MODIFIED:20190307T165409Z
UID:1510-1640390400-1640476799@swc.idaho.gov
SUMMARY:Christmas (closed)
DESCRIPTION:
URL:https://swc.idaho.gov/event/christmas-2021-12-25/
LOCATION:ID
CATEGORIES:Holiday
END:VEVENT
BEGIN:VEVENT
DTSTART;VALUE=DATE:20211122
DTEND;VALUE=DATE:20211123
DTSTAMP:20260425T072530
CREATED:20190307T165348Z
LAST-MODIFIED:20190307T165348Z
UID:1474-1637539200-1637625599@swc.idaho.gov
SUMMARY:Thanksgiving (closed)
DESCRIPTION:
URL:https://swc.idaho.gov/event/thanksgiving-2021-11-22/
LOCATION:ID
CATEGORIES:Holiday
END:VEVENT
BEGIN:VEVENT
DTSTART;VALUE=DATE:20211111
DTEND;VALUE=DATE:20211112
DTSTAMP:20260425T072530
CREATED:20190307T165325Z
LAST-MODIFIED:20190307T165325Z
UID:3145-1636588800-1636675199@swc.idaho.gov
SUMMARY:Veterans Day (closed)
DESCRIPTION:
URL:https://swc.idaho.gov/event/veterans-day-2021-11-11/
LOCATION:ID
CATEGORIES:Holiday
END:VEVENT
END:VCALENDAR